BEGIN:VCALENDAR
VERSION:2.0
PRODID:-//La santé, pour tous ! - ECPv4.9.13//NONSGML v1.0//EN
CALSCALE:GREGORIAN
METHOD:PUBLISH
X-WR-CALNAME:La santé, pour tous !
X-ORIGINAL-URL:https://metislausanne.ch
X-WR-CALDESC:Évènements pour La santé, pour tous !
BEGIN:VTIMEZONE
TZID:Europe/Zurich
BEGIN:DAYLIGHT
TZOFFSETFROM:+0100
TZOFFSETTO:+0200
TZNAME:CEST
DTSTART:20200329T010000
END:DAYLIGHT
BEGIN:STANDARD
TZOFFSETFROM:+0200
TZOFFSETTO:+0100
TZNAME:CET
DTSTART:20201025T010000
END:STANDARD
END:VTIMEZONE
BEGIN:VEVENT
DTSTART;TZID=Europe/Zurich:20201124T180000
DTEND;TZID=Europe/Zurich:20201124T180000
DTSTAMP:20260425T220922
CREATED:20201120T092945Z
LAST-MODIFIED:20201120T092945Z
UID:1400-1606240800-1606240800@metislausanne.ch
SUMMARY:La face cachée de la violence conjugale subit pas les hommes
DESCRIPTION:Via Zoom\, se déroulera\, dans le cadre du mouvement movember\, une conférence ayant comme sujet; la violence conjugale subie par les hommes. C’est ouvert à tous et à toutes donc n’hésitez pas à venir poser vos questions si vous en avez \n
URL:https://metislausanne.ch/fullevent/la-face-cachee-de-la-violence-conjugale-subit-pas-les-hommes/
END:VEVENT
END:VCALENDAR