BEGIN:VCALENDAR
VERSION:2.0
PRODID:-//La santé, pour tous ! - ECPv4.9.13//NONSGML v1.0//EN
CALSCALE:GREGORIAN
METHOD:PUBLISH
X-WR-CALNAME:La santé, pour tous !
X-ORIGINAL-URL:https://metislausanne.ch
X-WR-CALDESC:Évènements pour La santé, pour tous !
BEGIN:VTIMEZONE
TZID:Europe/Zurich
BEGIN:DAYLIGHT
TZOFFSETFROM:+0100
TZOFFSETTO:+0200
TZNAME:CEST
DTSTART:20200329T010000
END:DAYLIGHT
BEGIN:STANDARD
TZOFFSETFROM:+0200
TZOFFSETTO:+0100
TZNAME:CET
DTSTART:20201025T010000
END:STANDARD
END:VTIMEZONE
BEGIN:VEVENT
DTSTART;TZID=Europe/Zurich:20201209T183000
DTEND;TZID=Europe/Zurich:20201209T193000
DTSTAMP:20260425T185215
CREATED:20201204T093859Z
LAST-MODIFIED:20201204T093859Z
UID:1404-1607538600-1607542200@metislausanne.ch
SUMMARY:Initiation à la salsa fusion en SOLO
DESCRIPTION:Hola!\nC’est le comité SUERTE de l’association M.E.T.I.S. On est de retour avec une activité super fun: une initiation à la salsa fusion en SOLO (donc pas besoin de partenaire)! Rejoins-nous le 9 décembre à 18h30 sur zoom. Pour t’inscrire c’est très simple\, complète ce formulaire et envoie un twint avec la somme minimale de 5CHF au numéro suivant +41 76 445 70 75 (C’est le numéro de Joëlle\, la responsable du projet). Tu recevras un lien zoom quelques jours avant l’événement (pas de panique si tu ne le reçoit pas au moment de l’inscription\, ça viendra)\nOn se réjouit de te voir danser sur des rythmes latinos! \n \n
URL:https://metislausanne.ch/fullevent/initiation-a-la-salsa-fusion-en-solo/
END:VEVENT
END:VCALENDAR