BEGIN:VCALENDAR
VERSION:2.0
PRODID:-//La santé, pour tous ! - ECPv4.9.13//NONSGML v1.0//EN
CALSCALE:GREGORIAN
METHOD:PUBLISH
X-WR-CALNAME:La santé, pour tous !
X-ORIGINAL-URL:https://metislausanne.ch
X-WR-CALDESC:Évènements pour La santé, pour tous !
BEGIN:VTIMEZONE
TZID:Europe/Zurich
BEGIN:DAYLIGHT
TZOFFSETFROM:+0100
TZOFFSETTO:+0200
TZNAME:CEST
DTSTART:20200329T010000
END:DAYLIGHT
BEGIN:STANDARD
TZOFFSETFROM:+0200
TZOFFSETTO:+0100
TZNAME:CET
DTSTART:20201025T010000
END:STANDARD
END:VTIMEZONE
BEGIN:VEVENT
DTSTART;TZID=Europe/Zurich:20201013T180000
DTEND;TZID=Europe/Zurich:20201013T200000
DTSTAMP:20260425T235133
CREATED:20201006T081514Z
LAST-MODIFIED:20201006T081551Z
UID:1261-1602612000-1602619200@metislausanne.ch
SUMMARY:Film documentaire "Egoïste"
DESCRIPTION:Comment aider ? Protéger ? Soulager ? Et à quel prix ? Ces questions\, c’est le quotidien de MSF\, pour qui face aux maladies\, à la faim\, à la souffrance\, ne rien faire n’est pas une option. Le film Egoïste raconte ces questionnements par ceux qui font vivre MSF au quotidien\, ici ou à l’autre bout du monde\, seuls ou accompagnés de leurs proches\, dans leurs missions et leurs convictions. Egoïste se penche sur cette recherche d’équilibre\, entre quotidien d’humanitaire et vie privée\, entre engagement et obligations \nA l’auditoire César Roux du CHUV \n
URL:https://metislausanne.ch/fullevent/film-documentaire-egoiste/
LOCATION:CHUV\, Rue du Bugnon 46\, Lausanne\, Suisse
END:VEVENT
END:VCALENDAR