BEGIN:VCALENDAR
VERSION:2.0
PRODID:-//La santé, pour tous ! - ECPv4.9.13//NONSGML v1.0//EN
CALSCALE:GREGORIAN
METHOD:PUBLISH
X-WR-CALNAME:La santé, pour tous !
X-ORIGINAL-URL:https://metislausanne.ch
X-WR-CALDESC:Évènements pour La santé, pour tous !
BEGIN:VTIMEZONE
TZID:Europe/Zurich
BEGIN:DAYLIGHT
TZOFFSETFROM:+0100
TZOFFSETTO:+0200
TZNAME:CEST
DTSTART:20200329T010000
END:DAYLIGHT
BEGIN:STANDARD
TZOFFSETFROM:+0200
TZOFFSETTO:+0100
TZNAME:CET
DTSTART:20201025T010000
END:STANDARD
END:VTIMEZONE
BEGIN:VEVENT
DTSTART;TZID=Europe/Zurich:20201125T183000
DTEND;TZID=Europe/Zurich:20201125T200000
DTSTAMP:20260425T202343
CREATED:20201118T101808Z
LAST-MODIFIED:20201118T101808Z
UID:1391-1606329000-1606334400@metislausanne.ch
SUMMARY:Cours de cuisine équatorienne
DESCRIPTION:Pour sa récolte de fond\, l’équipe SUERTE de l’association se montre créative en cette période de crise sanitaire et vous présente un cours de cuisine à distance pour vous faire découvrir un plat venu tout droit d’Equateur. Par la même occasion\, nous en profiterons pour vous parler un peu de notre projet et vous faire part des quelques surprises qu’on vous réserve;) \nPrix : 5CHF minimum ou plus\, à votre bon cœur par TWINT au +41 76 455 70 75. Nous aurons également besoin de votre adresse mail que vous pourrez remplir dans le Google form ci-joint afin de vous transmettre le lien du Zoom ainsi que les ingrédients nécessaires. \nEn espérant vous voir nombreux ! \n  \n \n
URL:https://metislausanne.ch/fullevent/cours-de-cuisine-equatorienne/
END:VEVENT
END:VCALENDAR