BEGIN:VCALENDAR
VERSION:2.0
PRODID:-//La santé, pour tous ! - ECPv4.9.13//NONSGML v1.0//EN
CALSCALE:GREGORIAN
METHOD:PUBLISH
X-WR-CALNAME:La santé, pour tous !
X-ORIGINAL-URL:https://metislausanne.ch
X-WR-CALDESC:Évènements pour La santé, pour tous !
BEGIN:VTIMEZONE
TZID:Europe/Zurich
BEGIN:DAYLIGHT
TZOFFSETFROM:+0100
TZOFFSETTO:+0200
TZNAME:CEST
DTSTART:20220327T010000
END:DAYLIGHT
BEGIN:STANDARD
TZOFFSETFROM:+0200
TZOFFSETTO:+0100
TZNAME:CET
DTSTART:20221030T010000
END:STANDARD
END:VTIMEZONE
BEGIN:VEVENT
DTSTART;TZID=Europe/Zurich:20221206T180000
DTEND;TZID=Europe/Zurich:20221206T180000
DTSTAMP:20260423T080859
CREATED:20221125T091845Z
LAST-MODIFIED:20221125T091909Z
UID:1879-1670349600-1670349600@metislausanne.ch
SUMMARY:Conférence "le VIH ici et là bas"
DESCRIPTION:\n			\n		\n			\n				\n				\n				\n				\n					\n				\n				\n				\n				\n				\n				\n				Conférence animée par le professeur Cavassini\, spécialisé en maladies infectieuses\, suivi du film documentaire du projet CALWHA. Rendez-vous le 6 décembre à 18h à l’auditoire Mathias Mayer au CHUV. \n			 \n			 \n				\n				\n			 \n				\n				\n			 		\n	\n	\n			\n		\n		
URL:https://metislausanne.ch/fullevent/conference-le-vih-ici-et-la-bas/
LOCATION:CHUV- auditoire Mathias Mayer\, chuv\, Lausanne\, 1011\, Suisse
END:VEVENT
END:VCALENDAR