BEGIN:VCALENDAR
VERSION:2.0
PRODID:-//La santé, pour tous ! - ECPv4.9.13//NONSGML v1.0//EN
CALSCALE:GREGORIAN
METHOD:PUBLISH
X-WR-CALNAME:La santé, pour tous !
X-ORIGINAL-URL:https://metislausanne.ch
X-WR-CALDESC:Évènements pour La santé, pour tous !
BEGIN:VTIMEZONE
TZID:Europe/Zurich
BEGIN:DAYLIGHT
TZOFFSETFROM:+0100
TZOFFSETTO:+0200
TZNAME:CEST
DTSTART:20200329T010000
END:DAYLIGHT
BEGIN:STANDARD
TZOFFSETFROM:+0200
TZOFFSETTO:+0100
TZNAME:CET
DTSTART:20201025T010000
END:STANDARD
END:VTIMEZONE
BEGIN:VEVENT
DTSTART;TZID=Europe/Zurich:20201006T190000
DTEND;TZID=Europe/Zurich:20201006T210000
DTSTAMP:20260426T013249
CREATED:20200901T170156Z
LAST-MODIFIED:20201006T081354Z
UID:1127-1602010800-1602018000@metislausanne.ch
SUMMARY:Assemblée générale
DESCRIPTION:Durant cette assemblée générale\, nous vous présenterons les différents projets de l’association\, les événements passés durant l’été ainsi que les plans et objectifs pour l’année 2020-2021. Tout ça va se passer à l’auditoire César Roux au CHUV Merci de prendre en compte que l’événement aura lieu uniquement si les mesures sanitaires le permettent. \n
URL:https://metislausanne.ch/fullevent/assemblee-generale/
LOCATION:CHUV\, Rue du Bugnon 46\, Lausanne\, Suisse
END:VEVENT
END:VCALENDAR