BEGIN:VCALENDAR
VERSION:2.0
PRODID:-//La santé, pour tous ! - ECPv4.9.13//NONSGML v1.0//EN
CALSCALE:GREGORIAN
METHOD:PUBLISH
X-WR-CALNAME:La santé, pour tous !
X-ORIGINAL-URL:https://metislausanne.ch
X-WR-CALDESC:Évènements pour La santé, pour tous !
BEGIN:VTIMEZONE
TZID:Europe/Zurich
BEGIN:DAYLIGHT
TZOFFSETFROM:+0100
TZOFFSETTO:+0200
TZNAME:CEST
DTSTART:20200329T010000
END:DAYLIGHT
BEGIN:STANDARD
TZOFFSETFROM:+0200
TZOFFSETTO:+0100
TZNAME:CET
DTSTART:20201025T010000
END:STANDARD
END:VTIMEZONE
BEGIN:VEVENT
DTSTART;VALUE=DATE:20200502
DTEND;VALUE=DATE:20200504
DTSTAMP:20260426T030632
CREATED:20200310T183643Z
LAST-MODIFIED:20200310T183647Z
UID:922-1588377600-1588550399@metislausanne.ch
SUMMARY:20KM de Lausanne
DESCRIPTION:Venez courir les 2okm de Lausanne avec METIS ! \n
URL:https://metislausanne.ch/fullevent/20km-de-lausanne/
LOCATION:Vidy\, Suisse
END:VEVENT
END:VCALENDAR